Package: miaViz Version: 1.15.6 Command: chmod a+r miaViz -R && E:\biocbuild\bbs-3.21-bioc\R\bin\R.exe CMD build --keep-empty-dirs --no-resave-data miaViz StartedAt: 2025-02-20 19:56:58 -0500 (Thu, 20 Feb 2025) EndedAt: 2025-02-20 19:59:54 -0500 (Thu, 20 Feb 2025) EllapsedTime: 175.5 seconds RetCode: 0 Status: OK PackageFile: miaViz_1.15.6.tar.gz PackageFileSize: 2.491 MiB