Package: miaViz Version: 1.15.6 Command: /home/biocbuild/bbs-3.21-bioc/R/bin/R CMD build --keep-empty-dirs --no-resave-data miaViz StartedAt: 2025-02-20 18:12:08 -0500 (Thu, 20 Feb 2025) EndedAt: 2025-02-20 18:13:50 -0500 (Thu, 20 Feb 2025) EllapsedTime: 102.1 seconds RetCode: 0 Status: OK PackageFile: miaViz_1.15.6.tar.gz PackageFileSize: 2.868 MiB