Package: miaViz Version: 1.15.6 Command: /Library/Frameworks/R.framework/Resources/bin/R CMD build --keep-empty-dirs --no-resave-data miaViz StartedAt: 2025-02-20 17:19:42 -0500 (Thu, 20 Feb 2025) EndedAt: 2025-02-20 17:21:49 -0500 (Thu, 20 Feb 2025) EllapsedTime: 127.0 seconds RetCode: 0 Status: OK PackageFile: miaViz_1.15.6.tar.gz PackageFileSize: 2.529 MiB