Package: miaViz Version: 1.15.6 Command: rm -rf miaViz.buildbin-libdir && mkdir miaViz.buildbin-libdir && /Users/biocbuild/BBS/utils/build-universal.sh miaViz_1.15.6.tar.gz /Library/Frameworks/R.framework/Resources/bin/R miaViz.buildbin-libdir StartedAt: 2025-02-21 00:39:49 -0500 (Fri, 21 Feb 2025) EndedAt: 2025-02-21 00:40:52 -0500 (Fri, 21 Feb 2025) EllapsedTime: 62.5 seconds RetCode: 0 Status: OK PackageFile: miaViz_1.15.6.tgz PackageFileSize: 2.785 MiB