Package: miaViz Version: 1.15.6 Command: /Library/Frameworks/R.framework/Resources/bin/R CMD build --keep-empty-dirs --no-resave-data miaViz StartedAt: 2025-02-20 16:55:36 -0500 (Thu, 20 Feb 2025) EndedAt: 2025-02-20 16:56:29 -0500 (Thu, 20 Feb 2025) EllapsedTime: 52.6 seconds RetCode: 0 Status: OK PackageFile: miaViz_1.15.6.tar.gz PackageFileSize: 2.531 MiB