Package: miaSim Version: 1.13.0 Command: chmod a+r miaSim -R && E:\biocbuild\bbs-3.21-bioc\R\bin\R.exe CMD build --keep-empty-dirs --no-resave-data miaSim StartedAt: 2025-02-19 19:54:43 -0500 (Wed, 19 Feb 2025) EndedAt: 2025-02-19 19:56:14 -0500 (Wed, 19 Feb 2025) EllapsedTime: 90.6 seconds RetCode: 0 Status: OK PackageFile: miaSim_1.13.0.tar.gz PackageFileSize: 329.4 KiB