Package: miaSim Version: 1.13.0 Command: /home/biocbuild/bbs-3.21-bioc/R/bin/R CMD INSTALL miaSim StartedAt: 2025-02-20 15:41:41 -0500 (Thu, 20 Feb 2025) EndedAt: 2025-02-20 15:42:09 -0500 (Thu, 20 Feb 2025) EllapsedTime: 28.1 seconds RetCode: 0 Status: OK