Package: miRcomp Version: 1.37.0 Command: /home/biocbuild/bbs-3.21-bioc/R/bin/R CMD build --keep-empty-dirs --no-resave-data miRcomp StartedAt: 2025-02-18 18:01:35 -0500 (Tue, 18 Feb 2025) EndedAt: 2025-02-18 18:02:09 -0500 (Tue, 18 Feb 2025) EllapsedTime: 34.0 seconds RetCode: 0 Status: OK PackageFile: miRcomp_1.37.0.tar.gz PackageFileSize: 4.341 MiB