Package: miRSM Version: 2.3.0 Command: E:\biocbuild\bbs-3.21-bioc\R\bin\R.exe CMD check --no-multiarch --install=check:miRSM.install-out.txt --library=E:\biocbuild\bbs-3.21-bioc\R\library --no-vignettes --timings miRSM_2.3.0.tar.gz StartedAt: 2025-02-22 03:47:05 -0500 (Sat, 22 Feb 2025) EndedAt: 2025-02-22 03:54:52 -0500 (Sat, 22 Feb 2025) EllapsedTime: 467.6 seconds RetCode: 0 Status: OK CheckDir: miRSM.Rcheck Warnings: 0