Package: miRSM Version: 2.3.0 Command: chmod a+r miRSM -R && E:\biocbuild\bbs-3.21-bioc\R\bin\R.exe CMD build --keep-empty-dirs --no-resave-data miRSM StartedAt: 2025-02-21 20:39:24 -0500 (Fri, 21 Feb 2025) EndedAt: 2025-02-21 20:41:32 -0500 (Fri, 21 Feb 2025) EllapsedTime: 128.7 seconds RetCode: 0 Status: OK PackageFile: miRSM_2.3.0.tar.gz PackageFileSize: 911.6 KiB