Package: miRSM Version: 2.3.0 Command: /home/biocbuild/bbs-3.21-bioc/R/bin/R CMD INSTALL miRSM StartedAt: 2025-02-20 16:01:29 -0500 (Thu, 20 Feb 2025) EndedAt: 2025-02-20 16:02:19 -0500 (Thu, 20 Feb 2025) EllapsedTime: 50.4 seconds RetCode: 0 Status: OK