Package: miRSM Version: 2.3.0 Command: /home/biocbuild/bbs-3.21-bioc/R/bin/R CMD check --install=check:miRSM.install-out.txt --library=/home/biocbuild/bbs-3.21-bioc/R/site-library --timings miRSM_2.3.0.tar.gz StartedAt: 2025-02-20 23:40:56 -0500 (Thu, 20 Feb 2025) EndedAt: 2025-02-20 23:48:02 -0500 (Thu, 20 Feb 2025) EllapsedTime: 425.4 seconds RetCode: 0 Status: OK CheckDir: miRSM.Rcheck Warnings: 0