Package: miRSM Version: 2.3.0 Command: /Library/Frameworks/R.framework/Resources/bin/R CMD check --install=check:miRSM.install-out.txt --library=/Library/Frameworks/R.framework/Resources/library --no-vignettes --timings miRSM_2.3.0.tar.gz StartedAt: 2025-02-20 21:40:09 -0500 (Thu, 20 Feb 2025) EndedAt: 2025-02-20 21:47:12 -0500 (Thu, 20 Feb 2025) EllapsedTime: 422.2 seconds RetCode: 0 Status: OK CheckDir: miRSM.Rcheck Warnings: 0