Package: miRNAtap Version: 1.41.0 Command: E:\biocbuild\bbs-3.21-bioc\R\bin\R.exe CMD check --no-multiarch --install=check:miRNAtap.install-out.txt --library=E:\biocbuild\bbs-3.21-bioc\R\library --no-vignettes --timings miRNAtap_1.41.0.tar.gz StartedAt: 2025-02-21 03:18:36 -0500 (Fri, 21 Feb 2025) EndedAt: 2025-02-21 03:20:46 -0500 (Fri, 21 Feb 2025) EllapsedTime: 130.2 seconds RetCode: 0 Status: OK CheckDir: miRNAtap.Rcheck Warnings: 0