Package: miRNAtap Version: 1.41.0 Command: /Library/Frameworks/R.framework/Resources/bin/R CMD check --install=check:miRNAtap.install-out.txt --library=/Library/Frameworks/R.framework/Resources/library --no-vignettes --timings miRNAtap_1.41.0.tar.gz StartedAt: 2025-02-20 21:40:07 -0500 (Thu, 20 Feb 2025) EndedAt: 2025-02-20 21:42:13 -0500 (Thu, 20 Feb 2025) EllapsedTime: 126.3 seconds RetCode: 0 Status: OK CheckDir: miRNAtap.Rcheck Warnings: 0