Package: miRNAtap Version: 1.41.0 Command: /Library/Frameworks/R.framework/Resources/bin/R CMD build --keep-empty-dirs --no-resave-data miRNAtap StartedAt: 2025-02-20 17:21:43 -0500 (Thu, 20 Feb 2025) EndedAt: 2025-02-20 17:22:30 -0500 (Thu, 20 Feb 2025) EllapsedTime: 46.8 seconds RetCode: 0 Status: OK PackageFile: miRNAtap_1.41.0.tar.gz PackageFileSize: 222.8 KiB