Package: miRNAtap Version: 1.41.0 Command: rm -rf miRNAtap.buildbin-libdir && mkdir miRNAtap.buildbin-libdir && /Users/biocbuild/BBS/utils/build-universal.sh miRNAtap_1.41.0.tar.gz /Library/Frameworks/R.framework/Resources/bin/R miRNAtap.buildbin-libdir StartedAt: 2025-02-21 00:40:23 -0500 (Fri, 21 Feb 2025) EndedAt: 2025-02-21 00:40:43 -0500 (Fri, 21 Feb 2025) EllapsedTime: 19.7 seconds RetCode: 0 Status: OK PackageFile: miRNAtap_1.41.0.tgz PackageFileSize: 565.6 KiB