Package: miRNApath Version: 1.67.0 Command: E:\biocbuild\bbs-3.21-bioc\R\bin\R.exe CMD check --no-multiarch --install=check:miRNApath.install-out.txt --library=E:\biocbuild\bbs-3.21-bioc\R\library --no-vignettes --timings miRNApath_1.67.0.tar.gz StartedAt: 2025-02-21 03:18:09 -0500 (Fri, 21 Feb 2025) EndedAt: 2025-02-21 03:19:18 -0500 (Fri, 21 Feb 2025) EllapsedTime: 69.3 seconds RetCode: 0 Status: OK CheckDir: miRNApath.Rcheck Warnings: 0