Package: miRNApath Version: 1.67.0 Command: chmod a+r miRNApath -R && E:\biocbuild\bbs-3.21-bioc\R\bin\R.exe CMD build --keep-empty-dirs --no-resave-data miRNApath StartedAt: 2025-02-20 20:00:54 -0500 (Thu, 20 Feb 2025) EndedAt: 2025-02-20 20:01:22 -0500 (Thu, 20 Feb 2025) EllapsedTime: 27.9 seconds RetCode: 0 Status: OK PackageFile: miRNApath_1.67.0.tar.gz PackageFileSize: 548.5 KiB