Package: miRNApath Version: 1.67.0 Command: rm -rf miRNApath.buildbin-libdir && mkdir miRNApath.buildbin-libdir && E:\biocbuild\bbs-3.21-bioc\R\bin\R.exe CMD INSTALL --build --library=miRNApath.buildbin-libdir miRNApath_1.67.0.tar.gz StartedAt: 2025-02-21 08:33:19 -0500 (Fri, 21 Feb 2025) EndedAt: 2025-02-21 08:33:34 -0500 (Fri, 21 Feb 2025) EllapsedTime: 15.3 seconds RetCode: 0 Status: OK PackageFile: miRNApath_1.67.0.zip PackageFileSize: 721 KiB