Package: miRNApath Version: 1.67.0 Command: /home/biocbuild/bbs-3.21-bioc/R/bin/R CMD INSTALL miRNApath StartedAt: 2025-02-19 15:05:28 -0500 (Wed, 19 Feb 2025) EndedAt: 2025-02-19 15:05:43 -0500 (Wed, 19 Feb 2025) EllapsedTime: 15.2 seconds RetCode: 0 Status: OK