Package: miRNApath Version: 1.67.0 Command: /Library/Frameworks/R.framework/Resources/bin/R CMD build --keep-empty-dirs --no-resave-data miRNApath StartedAt: 2025-02-20 17:21:36 -0500 (Thu, 20 Feb 2025) EndedAt: 2025-02-20 17:21:56 -0500 (Thu, 20 Feb 2025) EllapsedTime: 19.4 seconds RetCode: 0 Status: OK PackageFile: miRNApath_1.67.0.tar.gz PackageFileSize: 661.3 KiB