Package: miRNApath Version: 1.67.0 Command: /Library/Frameworks/R.framework/Resources/bin/R CMD INSTALL miRNApath StartedAt: 2025-02-20 15:01:01 -0500 (Thu, 20 Feb 2025) EndedAt: 2025-02-20 15:01:03 -0500 (Thu, 20 Feb 2025) EllapsedTime: 2.0 seconds RetCode: 0 Status: OK