Package: miRNApath Version: 1.67.0 Maintainer: James M. Ward MaintainerEmail: jmw86069 at gmail.com git_url: https://git.bioconductor.org/packages/miRNApath git_branch: devel git_last_commit: 510d73a git_last_commit_date: 2024-10-29 09:29:32 -0500 (Tue, 29 Oct 2024)