Package: miRNAmeConverter Version: 1.35.0 Command: E:\biocbuild\bbs-3.21-bioc\R\bin\R.exe CMD INSTALL miRNAmeConverter StartedAt: 2025-02-19 15:43:00 -0500 (Wed, 19 Feb 2025) EndedAt: 2025-02-19 15:44:13 -0500 (Wed, 19 Feb 2025) EllapsedTime: 72.8 seconds RetCode: 0 Status: OK