Package: miRNAmeConverter Version: 1.35.0 Command: E:\biocbuild\bbs-3.21-bioc\R\bin\R.exe CMD check --no-multiarch --install=check:miRNAmeConverter.install-out.txt --library=E:\biocbuild\bbs-3.21-bioc\R\library --no-vignettes --timings miRNAmeConverter_1.35.0.tar.gz StartedAt: 2025-02-20 03:02:58 -0500 (Thu, 20 Feb 2025) EndedAt: 2025-02-20 03:04:58 -0500 (Thu, 20 Feb 2025) EllapsedTime: 119.1 seconds RetCode: 0 Status: WARNINGS CheckDir: miRNAmeConverter.Rcheck Warnings: 1