Package: miRNAmeConverter Version: 1.35.0 Command: /Library/Frameworks/R.framework/Resources/bin/R CMD INSTALL miRNAmeConverter StartedAt: 2025-02-19 15:09:54 -0500 (Wed, 19 Feb 2025) EndedAt: 2025-02-19 15:10:00 -0500 (Wed, 19 Feb 2025) EllapsedTime: 5.8 seconds RetCode: 0 Status: OK