Package: miRLAB Version: 1.37.0 Command: chmod a+r miRLAB -R && E:\biocbuild\bbs-3.21-bioc\R\bin\R.exe CMD build --keep-empty-dirs --no-resave-data miRLAB StartedAt: 2025-02-18 19:54:18 -0500 (Tue, 18 Feb 2025) EndedAt: 2025-02-18 19:55:11 -0500 (Tue, 18 Feb 2025) EllapsedTime: 53.2 seconds RetCode: 0 Status: OK PackageFile: miRLAB_1.37.0.tar.gz PackageFileSize: 192.3 KiB