Package: miRLAB Version: 1.37.0 Command: rm -rf miRLAB.buildbin-libdir && mkdir miRLAB.buildbin-libdir && /Users/biocbuild/BBS/utils/build-universal.sh miRLAB_1.37.0.tar.gz /Library/Frameworks/R.framework/Resources/bin/R miRLAB.buildbin-libdir StartedAt: 2025-02-18 22:28:37 -0500 (Tue, 18 Feb 2025) EndedAt: 2025-02-18 22:28:52 -0500 (Tue, 18 Feb 2025) EllapsedTime: 15.3 seconds RetCode: 0 Status: OK PackageFile: miRLAB_1.37.0.tgz PackageFileSize: 305.8 KiB