Package: miQC Version: 1.15.0 Command: /Library/Frameworks/R.framework/Resources/bin/R CMD INSTALL miQC StartedAt: 2025-02-19 15:11:27 -0500 (Wed, 19 Feb 2025) EndedAt: 2025-02-19 15:12:03 -0500 (Wed, 19 Feb 2025) EllapsedTime: 36.6 seconds RetCode: 0 Status: OK