Package: mgsa Version: 1.55.0 Command: /home/biocbuild/bbs-3.21-bioc/R/bin/R CMD check --install=check:mgsa.install-out.txt --library=/home/biocbuild/bbs-3.21-bioc/R/site-library --timings mgsa_1.55.0.tar.gz StartedAt: 2025-02-20 23:34:35 -0500 (Thu, 20 Feb 2025) EndedAt: 2025-02-20 23:35:20 -0500 (Thu, 20 Feb 2025) EllapsedTime: 45.0 seconds RetCode: 0 Status: WARNINGS CheckDir: mgsa.Rcheck Warnings: 1