Package: mgsa Version: 1.55.0 Command: /Library/Frameworks/R.framework/Resources/bin/R CMD build --keep-empty-dirs --no-resave-data mgsa StartedAt: 2025-02-20 17:19:34 -0500 (Thu, 20 Feb 2025) EndedAt: 2025-02-20 17:19:57 -0500 (Thu, 20 Feb 2025) EllapsedTime: 22.8 seconds RetCode: 0 Status: OK PackageFile: mgsa_1.55.0.tar.gz PackageFileSize: 395.5 KiB