Package: mfa Version: 1.29.0 Command: chmod a+r mfa -R && E:\biocbuild\bbs-3.21-bioc\R\bin\R.exe CMD build --keep-empty-dirs --no-resave-data mfa StartedAt: 2025-02-19 19:53:45 -0500 (Wed, 19 Feb 2025) EndedAt: 2025-02-19 19:54:29 -0500 (Wed, 19 Feb 2025) EllapsedTime: 43.8 seconds RetCode: 0 Status: OK PackageFile: mfa_1.29.0.tar.gz PackageFileSize: 336.6 KiB