Package: methylumi Version: 2.53.0 Command: /home/biocbuild/bbs-3.21-bioc/R/bin/R CMD INSTALL methylumi StartedAt: 2025-02-19 15:57:09 -0500 (Wed, 19 Feb 2025) EndedAt: 2025-02-19 15:58:07 -0500 (Wed, 19 Feb 2025) EllapsedTime: 58.7 seconds RetCode: 0 Status: OK