Package: methylumi Version: 2.53.0 Command: /home/biocbuild/bbs-3.21-bioc/R/bin/R CMD build --keep-empty-dirs --no-resave-data methylumi StartedAt: 2025-02-19 18:03:58 -0500 (Wed, 19 Feb 2025) EndedAt: 2025-02-19 18:07:17 -0500 (Wed, 19 Feb 2025) EllapsedTime: 199.2 seconds RetCode: 0 Status: OK PackageFile: methylumi_2.53.0.tar.gz PackageFileSize: 7.343 MiB