Package: methylumi Version: 2.53.0 Command: /Library/Frameworks/R.framework/Resources/bin/R CMD check --install=check:methylumi.install-out.txt --library=/Library/Frameworks/R.framework/Resources/library --no-vignettes --timings methylumi_2.53.0.tar.gz StartedAt: 2025-02-19 21:34:22 -0500 (Wed, 19 Feb 2025) EndedAt: 2025-02-19 21:40:45 -0500 (Wed, 19 Feb 2025) EllapsedTime: 382.7 seconds RetCode: 0 Status: OK CheckDir: methylumi.Rcheck Warnings: 0