Package: methylumi Version: 2.53.0 Command: /Library/Frameworks/R.framework/Resources/bin/R CMD INSTALL methylumi StartedAt: 2025-02-19 15:27:18 -0500 (Wed, 19 Feb 2025) EndedAt: 2025-02-19 15:27:43 -0500 (Wed, 19 Feb 2025) EllapsedTime: 24.4 seconds RetCode: 0 Status: OK