Package: methylscaper Version: 1.15.0 Command: /home/biocbuild/bbs-3.21-bioc/R/bin/R CMD INSTALL methylscaper StartedAt: 2025-02-19 15:49:23 -0500 (Wed, 19 Feb 2025) EndedAt: 2025-02-19 15:49:50 -0500 (Wed, 19 Feb 2025) EllapsedTime: 27.6 seconds RetCode: 0 Status: OK