Package: methylscaper Version: 1.15.0 Command: /Library/Frameworks/R.framework/Resources/bin/R CMD build --keep-empty-dirs --no-resave-data methylscaper StartedAt: 2025-02-20 17:17:58 -0500 (Thu, 20 Feb 2025) EndedAt: 2025-02-20 17:19:58 -0500 (Thu, 20 Feb 2025) EllapsedTime: 119.7 seconds RetCode: 0 Status: OK PackageFile: methylscaper_1.15.0.tar.gz PackageFileSize: 4.031 MiB