Package: methylscaper Version: 1.15.0 Command: /Library/Frameworks/R.framework/Resources/bin/R CMD INSTALL methylscaper StartedAt: 2025-02-20 15:26:03 -0500 (Thu, 20 Feb 2025) EndedAt: 2025-02-20 15:26:15 -0500 (Thu, 20 Feb 2025) EllapsedTime: 11.3 seconds RetCode: 0 Status: OK