Package: methylSig Version: 1.19.0 Command: /home/biocbuild/bbs-3.21-bioc/R/bin/R CMD INSTALL methylSig StartedAt: 2025-02-20 15:50:09 -0500 (Thu, 20 Feb 2025) EndedAt: 2025-02-20 15:51:00 -0500 (Thu, 20 Feb 2025) EllapsedTime: 50.8 seconds RetCode: 0 Status: OK