Package: methylSig Version: 1.19.0 Command: /Library/Frameworks/R.framework/Resources/bin/R CMD check --install=check:methylSig.install-out.txt --library=/Library/Frameworks/R.framework/Resources/library --no-vignettes --timings methylSig_1.19.0.tar.gz StartedAt: 2025-02-20 21:33:39 -0500 (Thu, 20 Feb 2025) EndedAt: 2025-02-20 21:39:29 -0500 (Thu, 20 Feb 2025) EllapsedTime: 350.2 seconds RetCode: 0 Status: OK CheckDir: methylSig.Rcheck Warnings: 0