Package: methylSig Version: 1.19.0 Command: /Library/Frameworks/R.framework/Resources/bin/R CMD build --keep-empty-dirs --no-resave-data methylSig StartedAt: 2025-02-20 17:18:17 -0500 (Thu, 20 Feb 2025) EndedAt: 2025-02-20 17:19:51 -0500 (Thu, 20 Feb 2025) EllapsedTime: 94.6 seconds RetCode: 0 Status: OK PackageFile: methylSig_1.19.0.tar.gz PackageFileSize: 492.7 KiB