Package: methylSig Version: 1.19.0 Command: rm -rf methylSig.buildbin-libdir && mkdir methylSig.buildbin-libdir && /Users/biocbuild/BBS/utils/build-universal.sh methylSig_1.19.0.tar.gz /Library/Frameworks/R.framework/Resources/bin/R methylSig.buildbin-libdir StartedAt: 2025-02-20 22:25:24 -0500 (Thu, 20 Feb 2025) EndedAt: 2025-02-20 22:25:47 -0500 (Thu, 20 Feb 2025) EllapsedTime: 22.4 seconds RetCode: 0 Status: OK PackageFile: methylSig_1.19.0.tgz PackageFileSize: 583.1 KiB