Package: methylMnM Version: 1.45.0 Command: E:\biocbuild\bbs-3.21-bioc\R\bin\R.exe CMD INSTALL methylMnM StartedAt: 2025-02-21 16:05:36 -0500 (Fri, 21 Feb 2025) EndedAt: 2025-02-21 16:05:52 -0500 (Fri, 21 Feb 2025) EllapsedTime: 15.7 seconds RetCode: 0 Status: OK