Package: methylMnM Version: 1.45.0 Command: chmod a+r methylMnM -R && E:\biocbuild\bbs-3.21-bioc\R\bin\R.exe CMD build --keep-empty-dirs --no-resave-data methylMnM StartedAt: 2025-02-21 20:32:21 -0500 (Fri, 21 Feb 2025) EndedAt: 2025-02-21 20:33:43 -0500 (Fri, 21 Feb 2025) EllapsedTime: 81.6 seconds RetCode: 0 Status: OK PackageFile: methylMnM_1.45.0.tar.gz PackageFileSize: 8.411 MiB