Package: methylMnM Version: 1.45.0 Command: /Library/Frameworks/R.framework/Resources/bin/R CMD INSTALL methylMnM StartedAt: 2025-02-20 15:07:15 -0500 (Thu, 20 Feb 2025) EndedAt: 2025-02-20 15:07:43 -0500 (Thu, 20 Feb 2025) EllapsedTime: 27.9 seconds RetCode: 0 Status: OK