Package: methylKit Version: 1.33.2 Command: /Library/Frameworks/R.framework/Resources/bin/R CMD INSTALL methylKit StartedAt: 2025-02-18 15:17:08 -0500 (Tue, 18 Feb 2025) EndedAt: 2025-02-18 15:18:25 -0500 (Tue, 18 Feb 2025) EllapsedTime: 77.0 seconds RetCode: 0 Status: OK