Package: methylInheritance Version: 1.31.0 Command: E:\biocbuild\bbs-3.21-bioc\R\bin\R.exe CMD check --no-multiarch --install=check:methylInheritance.install-out.txt --library=E:\biocbuild\bbs-3.21-bioc\R\library --no-vignettes --timings methylInheritance_1.31.0.tar.gz StartedAt: 2025-02-21 03:07:14 -0500 (Fri, 21 Feb 2025) EndedAt: 2025-02-21 03:17:20 -0500 (Fri, 21 Feb 2025) EllapsedTime: 605.9 seconds RetCode: 0 Status: OK CheckDir: methylInheritance.Rcheck Warnings: 0