Package: methylInheritance Version: 1.31.0 Command: /home/biocbuild/bbs-3.21-bioc/R/bin/R CMD check --install=check:methylInheritance.install-out.txt --library=/home/biocbuild/bbs-3.21-bioc/R/site-library --timings methylInheritance_1.31.0.tar.gz StartedAt: 2025-02-20 23:29:53 -0500 (Thu, 20 Feb 2025) EndedAt: 2025-02-20 23:39:17 -0500 (Thu, 20 Feb 2025) EllapsedTime: 563.7 seconds RetCode: 0 Status: OK CheckDir: methylInheritance.Rcheck Warnings: 0